BEGIN:VCALENDAR
VERSION:2.0
PRODID:icalendar-ruby
CALSCALE:GREGORIAN
METHOD:PUBLISH
BEGIN:VEVENT
DTSTAMP:20260421T232349Z
UID:cf66b63e-3505-4844-a6bf-e7a33644c0d1
DTSTART:20260627T100000
DTEND:20260627T220000
DESCRIPTION:<p><span>People of KZN\, South Africa's premiere gin festival i
 s coming to town! This year's Schweppes Durban Gin Festival will be hosted
  at the beautiful Beachwood Country Club. Gather your crew and book your t
 ickets for the ULTIMATE day out with friends! </span></p><p><br></p><ul><l
 i><span>Your ticket includes a complimentary gin cocktail on arrival.</spa
 n></li><li><span>No food or beverage items may be brought into the event v
 enue. (Don't worry\, we've got you covered with food options for every tas
 te and budget).</span></li><li><span>Camp chairs & picnic blankets welcome
 .</span></li><li><span>Please enjoy responsibly. Please don't drink and dr
 ive (Uber or taxi is always a good idea).</span></li><li><span>No under 18
 ’s.</span></li><li><span>Gates open at 12:00. Show closes at 22:00.</spa
 n></li></ul><p><br></p>
LOCATION:9 Beachwood Place\, Durban North
SUMMARY:Schweppes Durban Gin Festival 2026
URL;VALUE=URI:https://www.howler.co.za/Durban_Gin_Festival_2026
END:VEVENT
END:VCALENDAR
