BEGIN:VCALENDAR
VERSION:2.0
PRODID:icalendar-ruby
CALSCALE:GREGORIAN
METHOD:PUBLISH
BEGIN:VEVENT
DTSTAMP:20260421T190222Z
UID:cb06b31b-a4a5-47c0-bac0-d4534df18b35
DTSTART:20260530T103000
DTEND:20260530T180000
DESCRIPTION:<p>Singles and married hangout presents an informative seminar 
 themed connections and conversations\, offering some of the best and most 
 interactive sessions. this event will feature entertainment and couching t
 hat you have never seen before.</p>
LOCATION:12 Leratong- Monontsha Village\, QwaQwa
SUMMARY:Singles and Couples Hangout
URL;VALUE=URI:https://www.howler.co.za/singlesandcoupleshangout
END:VEVENT
END:VCALENDAR
