BEGIN:VCALENDAR
VERSION:2.0
PRODID:icalendar-ruby
CALSCALE:GREGORIAN
METHOD:PUBLISH
BEGIN:VEVENT
DTSTAMP:20260421T202826Z
UID:cefdf276-8a72-4a30-a096-96c983d46673
DTSTART:20260530T180000
DTEND:20260531T020000
DESCRIPTION:<p><span style="color: rgb(0\, 0\, 0)\;">Sitting Ducks Presents
 :</span></p><p><br></p><p><span style="color: rgb(0\, 0\, 0)\;">A dance mu
 sic playground bringing you the biggest and best in UK Garage!</span></p><
 p><br></p><p><span style="color: rgb(0\, 0\, 0)\;">Date: 30 May 2026</span
 ></p><p><span style="color: rgb(0\, 0\, 0)\;">Venue: Sognage\, 304 Tungste
 n Rd\, Strydompark\, Johannesburg\, 2169</span></p><p><span style="color: 
 rgb(0\, 0\, 0)\;">Time: 6pm to 2am</span></p><p><span style="color: rgb(0\
 , 0\, 0)\;">Line-up: </span></p><ul><li>DONNY BASCO</li><li>KINGTASH</li><
 li>CLAUDE.</li><li>CHIDI</li><li>CAPTAINMYCAPTAIN</li></ul><p><br></p><p><
 br></p>
LOCATION:304 TUNGSTEN RD \, STRIJDOMPARK RANDBURG
SUMMARY:SITTING DUCKS PRESENTS: 30 MAY 2026
URL;VALUE=URI:https://www.howler.co.za/sittingduckspresentsza
END:VEVENT
END:VCALENDAR
