BEGIN:VCALENDAR
VERSION:2.0
PRODID:icalendar-ruby
CALSCALE:GREGORIAN
METHOD:PUBLISH
BEGIN:VEVENT
DTSTAMP:20260422T005103Z
UID:86a01611-810c-4ceb-9054-b5dcd7fa81fc
DTSTART:20260704T120000
DTEND:20260705T020000
DESCRIPTION:<p>Step into a world where style meets sound\, and culture come
 s alive. Social Fabric is teaming up with SomethingStancey to bring you an
  unforgettable day-to-night experience that blends music\, fashion\, and p
 ure energy.</p><p><br></p><p>From the sunlight hours to the electric pulse
  of the night\, expect a seamless flow of vibes curated by top local DJs s
 etting the tone across genres. Whether you're pulling up for the daytime a
 mbiance or staying through the after dark magic\, this is where moments tu
 rn into memories.</p><p><br></p><p>Indulge in a selection of delicious foo
 d and signature cocktails crafted to keep you refreshed while you move\, c
 onnect\, and celebrate. It’s more than an event it’s a meeting point f
 or creatives\, tastemakers\, and vibe seekers.</p><p><br></p><p>Come dress
 ed\, come ready\, and come be part of the Social Fabric.</p><p><br></p>
LOCATION:18388 Nhlangwini St
SUMMARY:SOMETHINGSTANCEY WITH THE FABRICS
URL;VALUE=URI:https://www.howler.co.za/thefabricsparty
END:VEVENT
END:VCALENDAR
