BEGIN:VCALENDAR
VERSION:2.0
PRODID:icalendar-ruby
CALSCALE:GREGORIAN
METHOD:PUBLISH
BEGIN:VEVENT
DTSTAMP:20260421T092926Z
UID:e085b515-f3d2-4a88-94e3-a3840c35bdea
DTSTART:20260509T170000
DTEND:20260509T230000
DESCRIPTION:<p>Join us for a vibrant Night Market packed with delicious foo
 d\, refreshing drinks\, and live music in a fun\, welcoming atmosphere. Br
 ing the whole family and enjoy an evening of great entertainment\, tasty t
 reats\, and memorable moments for all ages under the stars.</p>
LOCATION:93 Murray St\, 1001 Clifton Avenue\, Brooklyn\, Pretoria\, 0181
SUMMARY:Sonop Nagmark 2026
URL;VALUE=URI:https://www.howler.co.za/Sonop_Nagmark_2026
END:VEVENT
END:VCALENDAR
