BEGIN:VCALENDAR
VERSION:2.0
PRODID:icalendar-ruby
CALSCALE:GREGORIAN
METHOD:PUBLISH
BEGIN:VEVENT
DTSTAMP:20260422T085156Z
UID:419f8d4d-b790-4c61-acb0-bd1666fbd2f7
DTSTART:20260926T100000
DTEND:20260926T220000
DESCRIPTION:<p>Step into <strong>SOUND</strong> <strong>FREQNCY™ | THE HA
 US EXPERIENCE</strong>\, a curated cultural escape redefining the intersec
 tion of luxury\, art\, music\, and street expression.</p><p>This is not ju
 st an event\, it’s a living canvas of lifestyle\, rhythm\, and flavour.<
 /p><p>A space where every beat\, bite\, and brushstroke tells the story of
  a modern African renaissance.</p><p>From sunset soundscapes to open-air a
 rt installations\, <strong>SOUND FREQNCY™ | THE HAUS EXPERIENCE</strong>
 \, celebrates the rhythm of the streets. Elevated by fine taste\, global s
 ounds\, and timeless style.</p><p>_____________________________________</p
 ><p><br></p>
LOCATION:Johannesburg
SUMMARY:SOUND FREQNCY™
URL;VALUE=URI:https://www.howler.co.za/SoundFrequency
END:VEVENT
END:VCALENDAR
