BEGIN:VCALENDAR
VERSION:2.0
PRODID:icalendar-ruby
CALSCALE:GREGORIAN
METHOD:PUBLISH
BEGIN:VEVENT
DTSTAMP:20260421T232226Z
UID:bd552fc7-a69c-4ad7-8795-1f84526f55c1
DTSTART:20260627T130000
DTEND:20260627T190000
DESCRIPTION:<ul><li class="ql-align-center ql-indent-1"><span style="color:
  rgb(182\, 57\, 57)\;"> </span><span style="color: rgb(20\, 21\, 33)\;">S
 OWETO MUSIC MARKET </span></li><li class="ql-align-center ql-indent-1"><st
 rong style="color: rgb(20\, 21\, 33)\;"> Immerse yourself in the thunderou
 s beats\, soul-stirring melodies\, and the raw energy of Live MUSUSIC AND 
 DJS </strong></li><li class="ql-align-center ql-indent-1"><strong style="c
 olor: rgb(20\, 21\, 33)\;"> WHERE MUSIC MEETS A</strong><a href="https://w
 ww.google.com/search?sca_esv=03f060b53a06b071&sxsrf=ANbL-n5LXRP2PTmh1tXdwp
 1GGqsjs3RZwA:1776534875030&q=audience&spell=1&sa=X&ved=2ahUKEwjm3qCR_PeTAx
 X5UUEAHdPWEK0QkeECKAB6BAgOEAE" target="_blank" style="color: rgb(20\, 21\,
  33)\;"><strong>udience</strong></a></li><li class="ql-align-center ql-ind
 ent-1"><span style="color: rgb(182\, 57\, 57)\;">Start from 1 PM- 7 PM</sp
 an></li><li class="ql-align-center ql-indent-1"><span style="color: rgb(18
 2\, 57\, 57)\;"> R100 online\, R150 at the door. Food and drinks will be s
 old at the event </span></li><li class="ql-align-center ql-indent-1"><span
  style="color: rgb(182\, 57\, 57)\;">27 JUNE 2026</span></li><li class="ql
 -align-center ql-indent-1"><span style="color: rgb(182\, 57\, 57)\;">LEBO
 ’S SOWETO BACKPACKERS CAMPSITE</span></li><li class="ql-align-center ql-
 indent-1"><strong style="color: rgb(20\, 21\, 33)\;">LIVE ON STAGE BOPHA B
 LACKMAN</strong></li></ul><p><br></p>
LOCATION:10823 Pooe St\, Orlando West\, Johannesburg\, 1804
SUMMARY:SOWETO MUSIC MARKET
URL;VALUE=URI:https://www.howler.co.za/sowetomusicmarket
END:VEVENT
END:VCALENDAR
