BEGIN:VCALENDAR
VERSION:2.0
PRODID:icalendar-ruby
CALSCALE:GREGORIAN
METHOD:PUBLISH
BEGIN:VEVENT
DTSTAMP:20260421T190454Z
UID:dd10abec-5752-4a18-92e8-687e5eefe1ed
DTSTART:20260530T110000
DTEND:20260530T220000
DESCRIPTION:<p><span>"Spoil the queens in your life this Mother's Day weeke
 nd with pure vibes and good times! 🌸✨ Mimosa Sundays proudly presents
  the Soweto Soul & RNB Festival – Mother's Day Picnic Edition!</span></p
 ><p><span>Join us for an unforgettable outdoor celebration filled with smo
 oth soul grooves\, timeless R&B hits\, refreshing mimosas\, delicious food
 \, and township energy that hits different.</span></p><p><span>Date: Satur
 day\, 30 May</span></p><p><span>Venue: Soweto Equestrian Centre\, 1679 Vun
 dla St\, Moroka\, Soweto</span></p><p><span>Theme: Bring your blankets\, f
 amily\, friends\, and that all-white or colourful glow-up!</span></p><p><s
 pan>Pack your cooler (small R150 | big R250) or grab spirits on-site (R200
 ). No under-18s – this one's for the grown & sexy!</span></p><p><span>Ea
 rly birds\, don't sleep – tickets selling fast via Howler\, Computicket\
 , and Webtickets.</span></p><p><span>We are in Soweto and Soweto is in us!
  💜🎤🍾</span></p><p><span>Tag your mom\, your squad\, and your plus
 -one. Let's make memories that heal the soul.</span></p><p><span>For booki
 ngs & info: 061 296 9684</span></p><p><span>#SowetoSoulRnBFestival #Mimosa
 Sundays</span></p><p><br></p>
LOCATION:1679 Vundla St\, Moroka\, Soweto\, Gauteng\, 1818
SUMMARY:Soweto soul&Rnb festival Mothers day picnic 
URL;VALUE=URI:https://www.howler.co.za/Kotaking
END:VEVENT
END:VCALENDAR
