BEGIN:VCALENDAR
VERSION:2.0
PRODID:icalendar-ruby
CALSCALE:GREGORIAN
METHOD:PUBLISH
BEGIN:VEVENT
DTSTAMP:20260422T090132Z
UID:2edf7882-2206-4cec-923c-a8a914b835f8
DTSTART:20261003T060000
DTEND:20261003T180000
DESCRIPTION:<p class="ql-align-center"><span style="color: rgb(22\, 41\, 59
 )\;">WINGMEN is ’n mannebediening gebou op die eenvoudige\, maar
  diep waarheid dat genade altyd vóór </span></p><p class="ql-alig
 n-center"><span style="color: rgb(22\, 41\, 59)\;">prestasie kom. Dit i
 s nie ’n plek vir volmaakte mans nie\, maar ’n tuiste vir 
 ware mans\, mans met vrae\, </span></p><p class="ql-align-center"><sp
 an style="color: rgb(22\, 41\, 59)\;">wonde\, 'struikelblokke en hoop.
  Mans wat weet hulle kan nie alleen die pad stap nie.</span></p
 ><p class="ql-align-center"><br></p><p class="ql-indent-1"><span style="co
 lor: rgb(22\, 41\, 59)\;">WINGMEN is nie ’n organisasie of denomin
 asie nie\, maar ’n roeping wat uitsluitlik aan Jesus Christus 
 </span></p><p class="ql-indent-1"><span style="color: rgb(22\, 41\, 59)\;"
 >behoort. Daar is geen agendas\, debatte of politieke standpunte 
 nie\, slegs die agenda van </span></p><p class="ql-indent-1"><span st
 yle="color: rgb(22\, 41\, 59)\;">die Koninkryk van God: liefde\, waar
 heid\, diens\, genade en gehoorsaamheid aan Hom alleen.</span></p><
 p class="ql-align-center ql-indent-1"><span>GOD ONTMOET JOU OP DIE PL
 EK WAAR JY IS\, SY GENADE IS VIR JOU GENOEG. </span></p><p class
 ="ql-align-center ql-indent-1"><br></p><p class="ql-align-center ql-indent
 -1"><span>Wingmen Manne Konferensie is n dag vol van sprekers\, s
 angers\, lof prys\, musiek\, </span></p><p class="ql-align-center ql-i
 ndent-1">kos stalletjies\, en veilige speel area vir die kinders!<
 /p><p class="ql-align-center ql-indent-1"><br></p><p class="ql-align-cente
 r ql-indent-1"><span>Hekke Open 05:00 Saterdag oggend\, 3 Oktober. 
 </span></p><p class="ql-align-center ql-indent-1"><br></p><p class="ql-ali
 gn-center ql-indent-1"><span>ALLE OUDERDOM KINDERS MOET GELDIGE KAART
 JIE HE.</span></p><p><br></p>
LOCATION:C/O of Boeing St &\, Solomon Mahlangu Dr\, Erasmuskloof\, Pretoria
 \, 0048
SUMMARY:Spoorloos Wingmen Manne Konferensie
URL;VALUE=URI:https://www.howler.co.za/spoorlooswingmenmannekonferensie
END:VEVENT
END:VCALENDAR
