BEGIN:VCALENDAR
VERSION:2.0
PRODID:icalendar-ruby
CALSCALE:GREGORIAN
METHOD:PUBLISH
BEGIN:VEVENT
DTSTAMP:20260419T205507Z
UID:8c91270b-da67-4123-968c-6ead9563e17f
DTSTART:20250221T170000
DTEND:20250221T220000
DESCRIPTION:<p><span>📢 </span><strong>Join us for an unforgettable night
  at Livy’s Social Club!</strong><span> 🎉✨</span></p><p><span>St. Jo
 hn’s College Johannesburg is hosting a </span><strong>fundraiser</strong
 ><span> filled with great music\, delicious drinks\, and amazing company
 —all for a good cause! 🍹🎶</span></p><p><br></p><p><span>📍 </spa
 n><strong>Venue:</strong><span> Livy’s Social Club</span></p><p><span>
 📅 </span><strong>Date:</strong><span> 21 </span>February</p><p><span>
 ⏰ </span><strong>Time:</strong><span> 9:00AM</span></p><p><br></p><p><sp
 an>Come support our school while enjoying a fantastic evening! </span><str
 ong>Tell your friends and spread the word!</strong><span> 🔥</span></p><
 p><br></p>
LOCATION:49 Eastwood Road\, Dunkeld\, Johannesburg\, 2196
SUMMARY:St John"s Padel | Fundraiser 🎾
URL;VALUE=URI:https://www.howler.co.za/stj
END:VEVENT
END:VCALENDAR
