BEGIN:VCALENDAR
VERSION:2.0
PRODID:icalendar-ruby
CALSCALE:GREGORIAN
METHOD:PUBLISH
BEGIN:VEVENT
DTSTAMP:20260421T173127Z
UID:0be65cb2-0bf3-486a-ad9f-0ed8b6088989
DTSTART:20260530T100000
DTEND:20260530T200000
DESCRIPTION:<p>Stance To Dance is an event which attracts motor enthusiasts
 . This event allows individuals with all makes of vehicles to park off and
  chill while competing for a few Prizes on the day. Entertainment is provi
 ded throughout the day .After party access to everyone who attended the ev
 ent above the age of 18.</p><p><br></p><p><br></p><p>Gazebos and champ cha
 irs allowed</p><p><br></p><p>Kids Entrance R80</p><p>Adults TICKETS R100 A
 nd Entrance at the gate R150</p><p>Cooler Box NOT ALLOWED </p><p>Wildwate
 rs Park to be cleared by 5pm And After Party Starts there after</p><p><br>
 </p><p>Stance competititors allowed to park inside the venue </p><p><br><
 /p>
LOCATION:1 Margaret Ave\, Bardene\, Boksburg\, Johannesburg\, 1459
SUMMARY:STANCE TO DANCE WINTER EDITION 2026
URL;VALUE=URI:https://www.howler.co.za/STDWINTEREDITION2K26
END:VEVENT
END:VCALENDAR
