BEGIN:VCALENDAR
VERSION:2.0
PRODID:icalendar-ruby
CALSCALE:GREGORIAN
METHOD:PUBLISH
BEGIN:VEVENT
DTSTAMP:20260422T053544Z
UID:86bf2976-9878-475e-a4ec-d707899f6767
DTSTART:20260801T100000
DTEND:20260802T200000
DESCRIPTION:<p><strong>The Standard Bank Luju Food & Lifestyle Festival</
 strong><span> </span></p><p><span>A family-friendly feast of culinary exp
 loits\, high-end fashion\, fine music\, premium wine and whiskey showca
 ses\, and wholesome entertainment taking place from 1 – 2 August\, 
 2026 at House On Fire in Eswatini. </span></p><p><span>Through culinary
  showcases by celebrity chefs\, and fabulous fashion designs inspired by t
 he Luju ethos\, “A Return to the African Future”\, the festival cel
 ebrates the sophistication and elegance of African style\, creative desig
 n and delicacies. Come and Eat\, Sway\, Love and rejoice in our heritage
  and culture\, in all its afro-futuristic boldness. </span></p><p><span>T
 he Standard Bank Luju Food & Lifestyle Festival is proudly brought to yo
 u by House On Fire\, with generous support from Standard Bank Eswatini.
  </span></p><p><strong>Festival opening times:</strong><span> </span></p
 ><p><span>Saturday 1st August:          10am – 2am </span><
 /p><p><span>Sunday 2nd August:     10am – 8pm </span></p><p><span
 >The festival grounds will be closed to the public between opening times.
  </span></p>
LOCATION:Malandela’s Lifestyle\, PO Box 93\, Malkerns\, Eswatini
SUMMARY:Standard Bank Luju Food & Lifestyle Festival 2026
URL;VALUE=URI:https://www.howler.co.za/luju2026
END:VEVENT
END:VCALENDAR
