BEGIN:VCALENDAR
VERSION:2.0
PRODID:icalendar-ruby
CALSCALE:GREGORIAN
METHOD:PUBLISH
BEGIN:VEVENT
DTSTAMP:20260422T085547Z
UID:9b33e1eb-4304-4c8e-b1ab-33dbc3b9fcb7
DTSTART:20260926T120000
DTEND:20260927T020000
DESCRIPTION:<p><br></p><p>September 26 It's a date...Ko Sehlogo.</p><p><br>
 </p><p><span>Event that is an enchanting escape from the ordinary where yo
 ur imagination can run wild and free \,A food and music extravaganza...</s
 pan></p><p><br></p><p>Sun kissed Lands at SEHLOGO STREET\,Atteridgeville f
 or the  first time\, bringing all the colour\, energy and feel-good vibes 
 under the sun to the moonlight ☀️</p><p><br></p><p>This is all about p
 roper daytime vibes to night thrills . Big smiles\, hands-in-the-air momen
 ts and a soundtrack packed with all uplifting genres per hour and that kee
 p the debut of Sun  Kissed  from start to finish</p><p><br></p><p>Expect a
  masterclass in entertainment\, orchestrated production\, and a crowd conn
 ected through music. Saturday September 26 ko Pheli belongs to Sun kissed.
 </p><p><br></p><p>An event where you can expect sets per genre from  risin
 g names who live for the rave. Expect Local DJs\, Live Performance\, 1 Pub
 lished Headliner together with a surprise headliner and expect what would 
 be Sun Kissed's signature aesthetic which will blends raw with immerse pro
 duction with cutting-edge lighting and immersive visuals that elevate the 
 entire experience together with pyrotechnics throughout the entire event..
 .</p><p><br></p><p>sun Kissed isn’t just a party – it’s a full senso
 ry experience\, blending tunes from Chill Out\, House\,3 Step\,....(let's 
 not ruin surprises)  and fresh dancefloor hits. Soak in the epic sunset vi
 ews and dive into the night  thrills with a stop in one of pheli's hidden 
 cove.</p><p><br></p><p>Line Up loading...</p><p><br></p>
LOCATION:49 sehlogo street 
SUMMARY:SUN KISSED - 26 SEPTEMBER 2026
URL;VALUE=URI:https://www.howler.co.za/SunKissedPTA
END:VEVENT
END:VCALENDAR
