BEGIN:VCALENDAR
VERSION:2.0
PRODID:icalendar-ruby
CALSCALE:GREGORIAN
METHOD:PUBLISH
BEGIN:VEVENT
DTSTAMP:20260421T081233Z
UID:1646086f-3e5b-4d9b-b54f-0f1ceb168d82
DTSTART:20260509T053000
DTEND:20260509T120000
DESCRIPTION:<p><strong>Sundays in the North</strong></p><p><br></p><p>Where
  culture meets comfort.</p><p>Sunday’s in the North is a curated lifesty
 le experience designed for the tastemakers\, the creatives\, and the city
 ’s calm elite. Set against a laid-back yet elevated atmosphere\, this is
 n’t just another Sunday outing it’s a statement.</p><p>Expect good mus
 ic\, intentional conversations\, premium style\, and an effortlessly refin
 ed crowd. From smooth sounds and curated DJs to signature drinks and timel
 ess fits\, every detail is designed to embody what Sundays should feel lik
 e relaxed\, expressive\, and unforgettable.</p><p>This is where the North 
 unwinds.</p><p>This is where presence matters.</p><p>This is Sunday’s in
  the North.</p><p><br></p>
LOCATION:119 Heinrich Ave\, Amandasig\, Akasia\, 0182
SUMMARY:Sundays In The North
URL;VALUE=URI:https://www.howler.co.za/sinorth
END:VEVENT
END:VCALENDAR
