BEGIN:VCALENDAR
VERSION:2.0
PRODID:icalendar-ruby
CALSCALE:GREGORIAN
METHOD:PUBLISH
BEGIN:VEVENT
DTSTAMP:20260421T202835Z
UID:3733a3de-f6ec-4f47-92dd-1aafda31e0eb
DTSTART:20260531T140000
DTEND:20260531T190000
DESCRIPTION:<p>Genre Events and THE RNB Experience presents Sundays R4 Love
 rs. </p><p><br></p><p>Relax to the soulful sounds of our resident DJ's. </
 p><p><br></p><p>Followed by a Live Performance by Dr Victor and the Rasta 
 Rebels. </p><p><br></p><p>Brought to you by </p><p><br></p><p>Los Locos Te
 quila\, La Salud and Genre Events.  </p>
LOCATION:165 Ann Crescent\, Simba\, Sandton\, 2197
SUMMARY:SundaysR4Lovers Dr Victor Edition 
URL;VALUE=URI:https://www.howler.co.za/SundayR4loversDrVictor
END:VEVENT
END:VCALENDAR
