BEGIN:VCALENDAR
VERSION:2.0
PRODID:icalendar-ruby
CALSCALE:GREGORIAN
METHOD:PUBLISH
BEGIN:VEVENT
DTSTAMP:20260422T035440Z
UID:15a946b0-57f4-436e-8600-f1d8f9c08cf5
DTSTART:20260801T150000
DTEND:20260802T030000
DESCRIPTION:<p>\nSwinter is an independent winter lifestyle music event ent
 ering its third edition in 2026. \nHosted in Pretoria\, Swinter brings tog
 ether youth culture\, music\, fashion and street energy \nduring the winte
 r season period with limited outdoor lifestyle activations. The event has 
 \ngrown organically through community support\, strong local brand identit
 y\, and authentic \nstreet-level promotion.</p>
LOCATION: Atteridgeville 
SUMMARY:Swinter '26
URL;VALUE=URI:https://www.howler.co.za/Swinter-26
END:VEVENT
END:VCALENDAR
