BEGIN:VCALENDAR
VERSION:2.0
PRODID:icalendar-ruby
CALSCALE:GREGORIAN
METHOD:PUBLISH
BEGIN:VEVENT
DTSTAMP:20260421T190454Z
UID:1b5a50a1-d742-45cd-a1e7-079844224407
DTSTART:20260530T110000
DTEND:20261130T210000
DESCRIPTION:<p><span>🌵🎉 </span><strong>Pretoria! It’s Tequila Time!
 </strong><span> 🎉🌵</span></p><p><span> Get ready for the ultimate fi
 esta as we bring you the </span><strong>Tequila Food & Music Festival</str
 ong><span> at the breathtaking </span><strong>SilverLakes Farm Hotel</stro
 ng><span>! 💚🌮🍹</span></p><p><br></p><p><span> Mark your calendars
  and warm up those taste buds—</span><strong>this is where tequila lover
 s and foodies unite for a flavour-packed celebration like no other!</stron
 g></p><p><br></p><p><span>📍 </span><strong>SilverLakes Farm Hotel\, Pre
 toria</strong></p><p><span> 📅 </span><strong>Date: 30 May 2026</strong>
 </p><p><span>🌯🥑 </span><strong>EAT. DRINK. FIESTA!</strong></p><p><b
 r></p><p><span> Indulge in a mouthwatering lineup of </span><strong>authen
 tic Mexican cuisine</strong><span> — juicy tacos\, cheesy quesadillas\, 
 flavorful burritos\, spicy enchiladas\, churros\, guacamole galore\, and s
 o much more! 🌶️🔥</span></p><p><span> And the star of the show? You
  guessed it…</span></p><p><br></p><p><span> </span><strong>TEQUILA!</str
 ong><span> 🥃💥</span></p><p><span> From smooth sips to spicy shots an
 d handcrafted margaritas\, expect </span><strong>a full journey into agave
  heaven</strong><span>.</span></p><p><br></p><p><span> 🎫 Ticket price e
 xcludes booking fee.</span></p><p><span> 🚫 </span><strong>No tickets so
 ld at the gate if presold tickets sell out.</strong></p><p><span> 🎟️ 
 </span><strong>Tickets are non-refundable.</strong></p><p><br></p><p><span
 >🔞 </span><strong>STRICTLY NO UNDER 18s</strong></p><p><span> No babies
 \, toddlers\, or children allowed. </span><strong>You MUST bring your ID (
 certified copies only).</strong></p><p><br></p><p>🌵🌮 <strong>Want to
  be a Vendor?</strong></p><p><span> Got the best tacos\, churros\, salsa\,
  or spicy snacks in town?</span></p><p><span> 📧 Email: </span><strong>r
 udolf@eventspecialists.co.za</strong><span> to be part of the fiesta!</spa
 n></p><p><br></p><p>🎤🎶 <strong>Festival Features & Activities:</stro
 ng></p><p><span> ✔ Live music on the main stage from 12:00</span></p><p>
 <span> ✔ Massive themed tequila bars</span></p><p><span> ✔ Specialty m
 argarita stations</span></p><p><span> ✔ Beer gardens 🍺</span></p><p><
 span> ✔ Loads of food vendors 🌯</span></p><p><span> ✔ Shaded chill 
 areas & standing zones</span></p><p><span> ✔ Picnic blankets welcome</sp
 an></p><p><span> ✔ Agave tasting booths (rethink your life choices respo
 nsibly 😅)</span></p><p><br></p><p>🎸 <strong>STAR ENTERTAINMENT LINEU
 P ANNOUNCING SOON!</strong><span> 🎸</span></p><p><span> (Prepare for so
 me of SA’s biggest names 🔥)</span></p><p><br></p><p>🚫 <strong>PROH
 IBITED ITEMS:</strong></p><p><span> 💢 Under 18s</span></p><p><span> 
 💢 Illegal substances</span></p><p><span> 💢 Weapons or firearms</span
 ></p><p><span> 💢 Cooler boxes</span></p><p><span> 💢 Hubblies</span><
 /p><p><span> 💢 Seating gear (folding chairs/tables) – </span><strong>
 blankets only!</strong></p><p><span> 💢 Outside food/drinks</span></p><p
 ><span> 💢 Pets/Animals (except certified guide dogs)</span></p><p><span
 > 💢 Pool or camp-style umbrellas</span></p><p><br></p><p>⚠️ <strong
 >IMPORTANT NOTICE</strong></p><p><span> Right of admission reserved. Enter
  at your own risk. Organizers and </span><strong>SilverLakes Farm Hotel</s
 trong><span> do not </span></p><p>accept responsibility for loss\, damage\
 , or injuries.</p><p><br></p><p><br></p><p><br></p>
LOCATION:26 Zwartkoppies\, Silverlakes Road\, Pretoria
SUMMARY:Tequila Mexican Food Festival Pretoria 2026
URL;VALUE=URI:https://www.howler.co.za/TequilaFestPretoria2026
END:VEVENT
END:VCALENDAR
