BEGIN:VCALENDAR
VERSION:2.0
PRODID:icalendar-ruby
CALSCALE:GREGORIAN
METHOD:PUBLISH
BEGIN:VEVENT
DTSTAMP:20260421T092920Z
UID:8f6422f2-f089-4341-adc3-aa51057a8980
DTSTART:20260509T190000
DTEND:20260510T010000
DESCRIPTION:<p><span>THE FREQUENCY — Presented by Sonder Society</span></
 p><p><br></p><p><span>Step into a night where energy connects\, music take
 s control\, and the city moves as one.</span></p><p><br></p><p><span>The F
 requency isn’t just an event—it’s a shared signal. A space where sou
 nd\, lights\, and people align to create something you don’t just attend
 … you feel.</span></p><p><br></p><p><span>Expect a high-energy atmospher
 e\, immersive visuals\, and a crowd that came for the same reason:</span><
 /p><p><span>to tap into the moment.</span></p><p><br></p><p><span>📍 Mus
 tangs Nelspruit </span></p><p><span>📅 Saturday\, 9 May </span></p><p>
 <br></p><p>Dress like you care.</p><p><br></p><p><span>This is your invita
 tion to tune in. </span></p><p><br></p><p><span>One frequency. One night.
 </span></p><p><br></p><p><span>Limited tickets available.</span></p><p><br
 ></p>
LOCATION:6 Loco Rd\, Mbombela 312-JT\, Mbombela\, 1200
SUMMARY:THE FREQUENCY
URL;VALUE=URI:https://www.howler.co.za/thefrequency
END:VEVENT
END:VCALENDAR
