BEGIN:VCALENDAR
VERSION:2.0
PRODID:icalendar-ruby
CALSCALE:GREGORIAN
METHOD:PUBLISH
BEGIN:VEVENT
DTSTAMP:20260421T203357Z
UID:6a276ee5-9d67-4149-9317-849953474b93
DTSTART:20260530T120000
DTEND:20260531T040000
DESCRIPTION:<p>🌟 <strong>The Grand Revelry – 2nd Edition</strong> 🌟
 </p><p><br></p><p>We return for another unforgettable journey into sound\,
  rhythm\, and pure revelry!</p><p><br></p><p>📅 <strong>Saturday\, 30 Ma
 y 2026</strong></p><p>🕛 <strong>12PM (Noon) – 4AM</strong></p><p>📍
  <strong>Watervale Lodge\, Inchanga\, KZN</strong></p><p>🚫 <strong>No U
 18s | R.O.A.R.</strong></p><p><br></p><p>🎶 <strong>Headliners Announced
 :</strong></p><p><br></p><ul><li><strong>DnA</strong></li><li><strong>PSYB
 org DJ</strong></li></ul><p><br></p><p>🎶 <strong>supported by:</strong>
 </p><p><br></p><ul><li>HouseRoKKa vs DriVa</li><li>Swag Monster</li><li>Sw
 eet-Iz</li><li>Allistair Lundall</li><li>Chemikult</li><li>Clybax</li><li>
 Dripson</li><li>Missing Link</li></ul><p><br></p><p>Expect <strong>16 hour
 s of music</strong>\, spanning <strong>House\, Techno\, Trance\, and Hard 
 House</strong>\, powered by a thumping sound system and set against the be
 auty of nature.</p><p><br></p><p>💸 <strong>Tickets:</strong></p><p><br>
 </p><ul><li>🎟️ <strong>Early Birds:</strong> R140 (till May 5 - 23:59
 )</li><li>🎟️ <strong>Presales:</strong> R180 (till May 30 - 11:30)</l
 i><li>🎟️ <strong>Gate:</strong> R250</li><li>✨ <em>All tickets incl
 ude camping!</em></li></ul><p><br></p><p>👉 Secure your tickets now!</p>
 <p><br></p><p>Join us for a proper revel — incredible DJs\, immersive vi
 bes\, and a dancefloor that won’t quit 🌌🔥💃</p><p><br></p><p>Thi
 s event brought to you by RIOT Productions KZN - https://www.facebook.com/
 profile.php?id=61584762286595</p>
LOCATION:D732 Rd\, Inchanga West\, Cato Ridge\, 3610
SUMMARY:The Grand Revelry - 2nd Edition
URL;VALUE=URI:https://www.howler.co.za/thegrandrevelry02
END:VEVENT
END:VCALENDAR
