BEGIN:VCALENDAR
VERSION:2.0
PRODID:icalendar-ruby
CALSCALE:GREGORIAN
METHOD:PUBLISH
BEGIN:VEVENT
DTSTAMP:20260422T014200Z
UID:4fd3238f-90ab-4579-9488-6b794ddd4498
DTSTART:20260423T160000
DTEND:20260424T060000
DESCRIPTION:<p>The Last Affair - 23 April</p><p>The Greenhouse\, Sandton</p
 >
LOCATION:Sandton 
SUMMARY:The Last Affair - 23 April
URL;VALUE=URI:https://www.howler.co.za/thelastaffair
END:VEVENT
END:VCALENDAR
