BEGIN:VCALENDAR
VERSION:2.0
PRODID:icalendar-ruby
CALSCALE:GREGORIAN
METHOD:PUBLISH
BEGIN:VEVENT
DTSTAMP:20260425T035729Z
UID:113d2444-ef8d-42ee-8442-c47e0c0c3b99
DTSTART:20260425T120000
DTEND:20260426T000000
DESCRIPTION:<p>SA's biggest old school Rnb & House festival☀️🏖</p><p
 >#IAMOLDSCHOOL</p>
LOCATION:1 Margaret Ave\, Bardene\, Boksburg\, Johannesburg\, 1459
SUMMARY:The Old School Picnic
URL;VALUE=URI:https://www.howler.co.za/Oldschoolpicnic7
END:VEVENT
END:VCALENDAR
