BEGIN:VCALENDAR
VERSION:2.0
PRODID:icalendar-ruby
CALSCALE:GREGORIAN
METHOD:PUBLISH
BEGIN:VEVENT
DTSTAMP:20260425T134840Z
UID:02b497b9-68ac-4d48-91d6-edbfc3f44deb
DTSTART:20260501T200000
DTEND:20260502T020000
DESCRIPTION:<p><span>Get ready to lose your voice and find your groove at <
 /span><strong>Paradiso Montecasino</strong><span>! This Friday\, 1 May\, w
 e are taking a trip down memory lane for an evening dedicated to the anthe
 ms that defined a generation.</span></p><p><span>Experience an electrifyin
 g live performance by the legendary </span><strong>DAWNAY</strong><span>\,
  South Africa’s elite vocalist and master drummer\, known for his record
 -breaking hits like "U Touch Me." Whether he's behind the mic or the kit\,
  Dawnay brings a spellbinding energy that commands the room.</span></p><p>
 <span>Keeping the nostalgia high and the dancefloor packed\, </span><stron
 g>DJ Neal Rain</strong><span> and </span><strong>DJ Jason 2Ray</strong><sp
 an> will be weaving together the best of 80s\, 90s\, and 2000s classics. F
 rom smooth R&B to iconic dancefloor burners\, every track is curated for m
 aximum singalong potential</span></p><p><br></p><p>info@buddhafunk.co.za  
  0824634118 | 0726333700</p><p><br></p>
LOCATION:Montecasino Fourways
SUMMARY:The Old Skool Sing Alongs ft DAWNAY | Paradiso Monte
URL;VALUE=URI:https://www.howler.co.za/sing
END:VEVENT
END:VCALENDAR
