BEGIN:VCALENDAR
VERSION:2.0
PRODID:icalendar-ruby
CALSCALE:GREGORIAN
METHOD:PUBLISH
BEGIN:VEVENT
DTSTAMP:20260422T070639Z
UID:c675f4c6-76ac-466b-9d85-7760996c906e
DTSTART:20260821T070000
DTEND:20260823T170000
DESCRIPTION:<p><span style="color: rgb(19\, 1\, 1)\;">Step into the wild he
 art of the Cederberg for a weekend of adventure\, freedom\, and unforgetta
 ble memories.</span></p><p><span style="color: rgb(19\, 1\, 1)\;">Two days
 . One legendary experience.</span></p><p><span style="color: rgb(19\, 1\, 
 1)\;">Ride through 70km of rugged\, awe-inspiring terrain from rocky ridge
 lines to open plains and join us for a warm down scenic 5km or 10km hike o
 n the Sunday. This is your chance to connect with nature\, good people\, a
 nd great energy in one of South Africa’s most breathtaking settings.</sp
 an></p>
LOCATION:R303\, Koue Bokkeveld\, Cederberg\, 6836
SUMMARY:The P2 Legacy Race | Cederberg Mountains
URL;VALUE=URI:https://www.howler.co.za/p2legacyrace2026
END:VEVENT
END:VCALENDAR
