BEGIN:VCALENDAR
VERSION:2.0
PRODID:icalendar-ruby
CALSCALE:GREGORIAN
METHOD:PUBLISH
BEGIN:VEVENT
DTSTAMP:20260421T190317Z
UID:a3c2730e-8545-499f-87b7-080f12e01d9b
DTSTART:20260530T120000
DTEND:20260530T220000
DESCRIPTION:<p><span>Pre-registration: Tickets to go live on 6 March 2026! 
 Register now for discounts and early access to tickets!</span></p>
LOCATION:Taroko Farm Modderfontein Reserve\, Norfolk Ln\, Klipfontein View\
 , Lethabong\, 1609
SUMMARY:The People's Picnic Pre-Registration 
URL;VALUE=URI:https://www.howler.co.za/peoplespicnicregmay
END:VEVENT
END:VCALENDAR
