BEGIN:VCALENDAR
VERSION:2.0
PRODID:icalendar-ruby
CALSCALE:GREGORIAN
METHOD:PUBLISH
BEGIN:VEVENT
DTSTAMP:20260421T215542Z
UID:90f310fd-f7eb-4a64-9844-c376f1d29830
DTSTART:20260606T120000
DTEND:20260606T210000
DESCRIPTION:<p><strong>Street Side Social</strong><span> is bringing the ma
 rket\, the music\, and the moment to </span><strong>Menlyn Park Shopping C
 entre</strong><span> on </span><strong>6 June</strong><span> — and it’
 s shaping up to be an unforgettable day out. 🎶🍻</span></p><p><span>J
 oin us for a vibrant lifestyle market experience filled with great food\, 
 refreshing drinks\, and a stacked music lineup featuring some of South Afr
 ica’s top talent.</span></p><p><br></p><h3><span>🎧 Music Line-Up</spa
 n></h3><ul><li><span>Babalwa M</span></li><li><span>Rowlene</span></li><li
 ><span>Vinny Da Vinci</span></li><li><span>Lubonk</span></li><li><span>And
 ii</span></li><li><span>Bazy</span></li><li><span>Lochive</span></li><li><
 span>Jay Sax</span></li></ul><p><br></p><p><span>Expect an electric atmosp
 here where </span><strong>street market culture meets live music</strong><
 span> — the perfect place to meet friends\, discover great food vendors\
 , enjoy a cold drink\, and dance the day away.</span></p><p><br></p><h3><b
 r></h3><p><br></p><p><br></p><p><br></p><p><br></p><p><br></p><p><br></p><
 p><br></p><p><br></p><p><br></p>
LOCATION:Atterbury Rd & Lois Ave\, Menlyn Park\, Pretoria\, Gauteng\, 0063
SUMMARY:The Street Side Social
URL;VALUE=URI:https://www.howler.co.za/Streetsidesocial
END:VEVENT
END:VCALENDAR
