BEGIN:VCALENDAR
VERSION:2.0
PRODID:icalendar-ruby
CALSCALE:GREGORIAN
METHOD:PUBLISH
BEGIN:VEVENT
DTSTAMP:20260421T135215Z
UID:38cbf4e6-d043-47f0-8321-a64d6a76be35
DTSTART:20260516T210000
DTEND:20260517T030000
DESCRIPTION:<p>Chilli Pros Presents The Take Over!!</p><p><br></p><p>Sat 16
  May </p><p>Maracana - Sandton </p><p>ROAR</p><p><br></p><p>For Table Book
 ings & Info please Whatsapp 0726888350</p><p><br></p>
LOCATION:58 Wierda Rd E\, Wierda Valley\, Sandton\, 2196
SUMMARY:The Take Over - Sat 16 May - Maracana
URL;VALUE=URI:https://www.howler.co.za/TheTakeOverChilli26
END:VEVENT
END:VCALENDAR
