BEGIN:VCALENDAR
VERSION:2.0
PRODID:icalendar-ruby
CALSCALE:GREGORIAN
METHOD:PUBLISH
BEGIN:VEVENT
DTSTAMP:20260421T220227Z
UID:15a6606b-f3a6-4905-8dce-7f27cc027cb2
DTSTART:20260627T110000
DTEND:20260627T210000
DESCRIPTION:<p><span>Experience the vibrancy and flavors of Mexico at the T
 equila Mexican Food Festival in Ballito on June 27\, 2026. We're bringing 
 together a tantalizing mix of authentic Mexican cuisine\, including tacos\
 , burritos\, and enchiladas\, complemented by a wide selection of tequila.
  Elevating the festivities\, some of South Africa's finest live acts will 
 perform\, ensuring an electrifying atmosphere. This festival is a perfect 
 fusion of culinary delights\, exhilarating music\, and cultural celebratio
 n. Join us for a day of unforgettable experiences\, flavors\, and entertai
 nment!</span></p>
LOCATION:D173 Esenembi Rd\, Dolphin Coast\, 4399
SUMMARY:The Tequila and Mexican Food Festival ( Ballito )
URL;VALUE=URI:https://www.howler.co.za/tequilafestballito2026
END:VEVENT
END:VCALENDAR
