BEGIN:VCALENDAR
VERSION:2.0
PRODID:icalendar-ruby
CALSCALE:GREGORIAN
METHOD:PUBLISH
BEGIN:VEVENT
DTSTAMP:20260421T215709Z
UID:b7bcf1ef-205b-46bb-9927-5372b83be172
DTSTART:20260808T110000
DTEND:20260808T210000
DESCRIPTION:<p><span>Experience the vibrancy and flavors of Mexico at the T
 equila Mexican Food Festival in Benoni on August 8\, 2026. We're bringing 
 together a tantalizing mix of authentic Mexican cuisine\, including tacos\
 , burritos\, and enchiladas\, complemented by a wide selection of tequila.
  Elevating the festivities\, some of South Africa's finest live acts will 
 perform\, ensuring an electrifying atmosphere. This festival is a perfect 
 fusion of culinary delights\, exhilarating music\, and cultural celebratio
 n. Join us for a day of unforgettable experiences\, flavors\, and entertai
 nment!</span></p>
LOCATION:1 Brodigan Street Northmead\, Benoni
SUMMARY:The Tequila and Mexican Food Festival ( Benoni )
URL;VALUE=URI:https://www.howler.co.za/tequilafestbenoni2026
END:VEVENT
END:VCALENDAR
