BEGIN:VCALENDAR
VERSION:2.0
PRODID:icalendar-ruby
CALSCALE:GREGORIAN
METHOD:PUBLISH
BEGIN:VEVENT
DTSTAMP:20260425T115720Z
UID:ef79ccdc-f0a5-44ed-b626-112d3f9d3a8f
DTSTART:20260501T190000
DTEND:20260502T020000
DESCRIPTION:<p>The <strong>Best House Party</strong> you will find in <stro
 ng>Cape Town</strong></p><p><br></p><p>This Event will not be a Monthly Oc
 currence<strong>\, </strong>but rather<strong> Something Special </strong>
 Celebrated<strong> Every Few Months</strong></p><p><br></p><p><strong>Spac
 e is Limited</strong> & The only<strong> Entry Guarantee </strong>is<stron
 g> Your Ticket</strong></p><p><br></p><p><br></p><p><br></p><p><br></p>
LOCATION:12 Glenhof Road\, Newlands 7700
SUMMARY:The Villa
URL;VALUE=URI:https://www.howler.co.za/VillaParty
END:VEVENT
END:VCALENDAR
