BEGIN:VCALENDAR
VERSION:2.0
PRODID:icalendar-ruby
CALSCALE:GREGORIAN
METHOD:PUBLISH
BEGIN:VEVENT
DTSTAMP:20260422T131600Z
UID:017f92f8-d322-40b2-ac50-da7f0098af55
DTSTART:20260101T000000
DTEND:20261231T235900
DESCRIPTION:<p> </p>
LOCATION:381 Helen Joseph St\, Pretoria Central\, Pretoria\, Gauteng\, 0002
SUMMARY:Tshwanefontein - Season Tickets
URL;VALUE=URI:https://www.howler.co.za/tshwanefonteinseasonticket26
END:VEVENT
END:VCALENDAR
