BEGIN:VCALENDAR
VERSION:2.0
PRODID:icalendar-ruby
CALSCALE:GREGORIAN
METHOD:PUBLISH
BEGIN:VEVENT
DTSTAMP:20260422T053707Z
UID:73b86c49-4d72-4f30-b1a5-63f0e428b98a
DTSTART:20260815T070000
DTEND:20260816T170000
DESCRIPTION:<p class="ql-align-justify"><span style="color: rgb(29\, 2\, 2)
 \;">A social MTB ride on the wild side! Set along the spectacular Tugela 
 Canyon\, the Tugela Epic invites you on an epic adventure to ride your mou
 ntain bike along pristine trails and routes never ridden before.</span></p
 ><p class="ql-align-justify"><span style="color: rgb(29\, 2\, 2)\;">Please
  note that this is not a race\, but a social event allowing you to immerse
  yourself in the beauty of the African bushveld. Friends\; family and chil
 dren are welcome - supporter tickets are available.</span></p><p><span sty
 le="color: rgb(29\, 2\, 2)\;">The Tugela Epic is a fund-raising initiative
  by the Ezemvelo KZN Wildlife Honorary Officers\; who aim to raise critica
 l funds for the preservation and expansion of Weenen and Spioenkop Nature 
 Reserves. Funds will be used for maintenance and expansion of trails and i
 nfrastructure and implementation of conservation projects. Therefore\, by 
 entering the Tugela Epic\; you are directly contributing to conservation e
 fforts in this area. We are encouraging riders to initiate a rider sponsor
 ship program to assist in funding for Ezemvelo HOs’ conservation projec
 ts. There will be a prize for the highest sponsorship obtained.</span></p>
 <p><span style="color: rgb(19\, 1\, 1)\;">Click </span><a href="https://ww
 w.emawenitugelacanyon.co.za/" target="_blank" style="color: rgb(19\, 1\, 1
 )\;">HERE</a><span style="color: rgb(19\, 1\, 1)\;"> for Emaweni Tugela Ca
 nyon Lodge</span></p><p><span style="color: rgb(19\, 1\, 1)\;">Click </spa
 n><a href="https://www.zingelasafaris.co.za/" target="_blank" style="color
 : rgb(19\, 1\, 1)\;">HERE</a><span style="color: rgb(19\, 1\, 1)\;"> for t
 he Zingela Brochure</span></p>
LOCATION:3 Bloukrans Rd\, Weenen\, 3325
SUMMARY:Tugela Epic 2026
URL;VALUE=URI:https://www.howler.co.za/tugelaepic25
END:VEVENT
END:VCALENDAR
