BEGIN:VCALENDAR
VERSION:2.0
PRODID:icalendar-ruby
CALSCALE:GREGORIAN
METHOD:PUBLISH
BEGIN:VEVENT
DTSTAMP:20260421T173836Z
UID:c3c7c492-b043-48bd-9267-eb29751d4ea3
DTSTART:20260614T120000
DTEND:20260614T150000
DESCRIPTION:<h2><span>The Ultimate Dizney Party Is Coming to JOHANNESBURG !
  🧚‍♀️✨ </span></h2><h2><br></h2><p><span>Get ready for an unfor
 gettable\, family-friendly celebration of all things Dizney-inspired!</spa
 n></p><p><span>This immersive party will be packed with a live DJ\, prince
 ss performances\, colourful mascots\, interactive games\, and high-energy 
 sing-along moments. 🎶</span></p><p><span>The ultimate event for kids\, 
 parents and magical fans of all ages. Expect photo opportunities\, surpris
 e character appearances\, dance-along soundtracks\, and plenty of enchanti
 ng moments from start to finish! 🪄✨</span></p><p><br></p><p><strong>E
 VENT INFO</strong></p><p><span>📍 Venue: Sognage\, 304 Tungsten Rd\, Str
 ydompark\, Johannesburg\, 2169\, South Africa </span></p><p><span>📆 Dat
 e: Sunday 14th June 2026</span></p><p><span>⏰ Event Time: 12pm - 3pm</sp
 an></p><p><span>🚪 Last Entry: 1.00pm</span></p><p><br></p><p><strong>IM
 PORTANT INFO</strong></p><p><span>- In order to provide the best experienc
 e possible\, we ask that everyone requiring the use of accessibility facil
 ities to get in touch with the venue.</span></p><p><span>- Everyone who is
  attending the event will need to purchase a ticket. It is compulsory for 
 all under 18's to be accompanied by an adult 18+ at all times. - All Ages 
 Welcome (4+)</span></p><p><span>- No external food or drinks can be brough
 t into the venue</span></p><p><span>- As this is a live concert\, the use 
 of flashing lights and loud music should be considered when buying a ticke
 t. Ear defenders may be recommended for young children. The garden area wi
 ll be used as a quiet zone\, with stalls and seating available</span></p><
 p><br></p><p><strong>Contact Us</strong></p><p><span>Please contact our Co
 mms Team via the Enquiry Form found on the “Contact Us” page on our we
 bsite https://likeit-loveit.com/ca/brands/ultimate-dizney/contact/. </span
 ></p><p><span>Our Comms Team is based in the UK & aim to respond to all en
 quires within 48 hours (excluding weekends & UK public holidays). </span>
 </p><p><br></p>
LOCATION:304 Tungsten Road\, Strydompark\, Johannesburg\, 2169
SUMMARY:Ultimate Dizney Party Is Coming To Johannesburg!
URL;VALUE=URI:https://www.howler.co.za/UltimateDizneyPartyJHB
END:VEVENT
END:VCALENDAR
