BEGIN:VCALENDAR
VERSION:2.0
PRODID:icalendar-ruby
CALSCALE:GREGORIAN
METHOD:PUBLISH
BEGIN:VEVENT
DTSTAMP:20260425T135059Z
UID:5f1b8172-2710-4c22-a449-f7e7fecbd7d7
DTSTART:20260502T060000
DTEND:20260502T130000
DESCRIPTION:<p>Unlimited WalkFest is back.Season Two! Bigger energy. New ci
 ties. Same GalPal spirit.</p><p>And yes… we’re coming to Durban in May
  and Cape Town in October 2026.</p><p>Now picture this: You wake up in a b
 eautiful city.It’s early\, you and your bestie are putting on sneakers\,
 \, and heading out to meet hundreds of women who feel like friends you jus
 t haven’t met yet.</p><p><br></p><p>You arrive at the venue \, and you w
 alk.You talk.You laugh.You take photos.You walk some more.</p><p>Five kilo
 metres later\, you realise you’ve just done something good for your body
 … without hating your life.</p><p><br></p><p>Then the real fun begins.</
 p><p>Music.Dancing.Your favourite DJs.Brand experiences.More dancing.More 
 laughing. More “I’m so glad I came’ moments.This is Unlimited WalkFe
 st.</p><p><br></p><p>It’s not about being the fittest.</p><p>It’s not 
 about personal bests.</p><p>It’s not about proving anything.</p><p>It’
 s about moving your body\, meeting your people\, and choosing yourself.</p
 ><p> </p><p><strong>Your ticket includes:</strong></p><ul><li>A 5km fun w
 alk</li><li>Access to brand experiences</li><li>DJ performances and a morn
 ing of dancing</li><li>Conversations</li></ul><p> </p><p>We can’t wait 
 to walk\, dance\, and laugh with you.</p><p><br></p>
LOCATION:Oceans mall\, Durban
SUMMARY:Unlimited Walkfest - Durban
URL;VALUE=URI:https://www.howler.co.za/unlimitedwalkfest2026
END:VEVENT
END:VCALENDAR
