BEGIN:VCALENDAR
VERSION:2.0
PRODID:icalendar-ruby
CALSCALE:GREGORIAN
METHOD:PUBLISH
BEGIN:VEVENT
DTSTAMP:20260425T040329Z
UID:b993adee-9259-48b1-b272-d23e4d95115a
DTSTART:20260425T150000
DTEND:20260426T020000
DESCRIPTION:<p><strong>ESwatini Wolf Pack! </strong>We had such an incredib
 le experience in 2025 that<strong> we've decided to return & kick off 
 2026 at home!!! </strong></p><p><br></p><p><strong>UTW ESwatini\, 25 Apri
 l 2026\, Oryx Restaurant & Lounge. SAVE THE DATE!</strong></p><p><br></p>
LOCATION:The Gables Shopping Center\, MR103\, Ezulwini\, ESwatini
SUMMARY:UTW ESwatini 25 April 2026
URL;VALUE=URI:https://www.howler.co.za/utw_eswatini_April_2026
END:VEVENT
END:VCALENDAR
