BEGIN:VCALENDAR
VERSION:2.0
PRODID:icalendar-ruby
CALSCALE:GREGORIAN
METHOD:PUBLISH
BEGIN:VEVENT
DTSTAMP:20260421T203218Z
UID:85191ce5-920c-4501-9562-5f15b3193305
DTSTART:20260530T210000
DTEND:20260531T020000
DESCRIPTION:<p><span>We R House returns on 28 March with another unforgetta
 ble night of world-class house music.</span></p><p><br></p><p><span>Featur
 ing international headliner Jimpster\, alongside South African legends DJ 
 Christos\, Sculptured Music\, and Soulfreakah\, this edition promises a de
 ep\, soulful journey on the dancefloor.</span></p><p><br></p><p><span>Expe
 ct timeless grooves\, refined sound\, and an atmosphere curated for true h
 ouse music lovers.</span></p><p><br></p><p><span>Join us on 28 March for a
  night where music and energy meet — only at We R House.</span></p><p><b
 r></p><p><br></p>
LOCATION:24 Central\, Sandton
SUMMARY:We R House ft JIMPSTER
URL;VALUE=URI:https://www.howler.co.za/Jimpster2
END:VEVENT
END:VCALENDAR
