BEGIN:VCALENDAR
VERSION:2.0
PRODID:icalendar-ruby
CALSCALE:GREGORIAN
METHOD:PUBLISH
BEGIN:VEVENT
DTSTAMP:20260421T105550Z
UID:10b25dd7-dc16-47ef-b788-d17b1a45b768
DTSTART:20260510T130000
DTEND:20260510T180000
DESCRIPTION:<p>Weiveld Village bied aan buitelug piekniek saam met Chris St
 eyn. Bring jou stoel\, bespreek jou piekpiek mandjie of book 'n tafel by W
 eiveld Sports Bar en kom geniet die dag saam met ons.</p>
LOCATION:1 Zwavelpoort road\, 
SUMMARY:Weiveld Piekniek Chris Steyn
URL;VALUE=URI:https://www.howler.co.za/WeiveildPiekniekChrisSteyn
END:VEVENT
END:VCALENDAR
