BEGIN:VCALENDAR
VERSION:2.0
PRODID:icalendar-ruby
CALSCALE:GREGORIAN
METHOD:PUBLISH
BEGIN:VEVENT
DTSTAMP:20260420T141053Z
UID:615cbddb-46e5-4a53-9852-256af9ab19a4
DTSTART:20231020T200000
DTEND:20231021T020000
DESCRIPTION:<p>WHYLY invites rising star Galileo (Underground Africa) and P
 retoria's very own Chidi back to 103 Club Ave.</p><p>Residents Bongani Zul
 u and Romario Afonso on support.  </p>
LOCATION:103 Club Avenue\, Waterkloof\, Pretoria 
SUMMARY:WHYLY 20/10/2023
URL;VALUE=URI:https://www.howler.co.za/20102023
END:VEVENT
END:VCALENDAR
