BEGIN:VCALENDAR
VERSION:2.0
PRODID:icalendar-ruby
CALSCALE:GREGORIAN
METHOD:PUBLISH
BEGIN:VEVENT
DTSTAMP:20260422T052336Z
UID:2d8875b6-7540-418c-be86-514ca2699af1
DTSTART:20260809T140000
DTEND:20260810T030000
DESCRIPTION:<p>We hosting our 3rd Annual Women's Day Celebration\, it is no
 t restricted to women only men are welcome too. Great line up of Dj's\, ni
 ce decor & great company. We have discounted our door price & our cooler b
 ox prices.</p><p>No dress code this year(dress up & show up)</p>
LOCATION:Hawthorn Street\, Palm Ridge
SUMMARY:WOMEN'S DAY CELEBRATIONS SING ALONG EDITION
URL;VALUE=URI:https://www.howler.co.za/Uncle_Turbo-59
END:VEVENT
END:VCALENDAR
