BEGIN:VCALENDAR
VERSION:2.0
PRODID:icalendar-ruby
CALSCALE:GREGORIAN
METHOD:PUBLISH
BEGIN:VEVENT
DTSTAMP:20260421T232810Z
UID:31ffd058-86dd-4fd1-b8a0-602f33347a16
DTSTART:20260627T140000
DTEND:20260628T020000
DESCRIPTION:<p><span style="color: rgb(0\, 0\, 0)\;">X Fest 2025 was ELECTR
 IC!</span></p><p><br></p><p><span style="color: rgb(0\, 0\, 0)\;">The kind
  of day into night that you just can’t forget. The music. The people. Th
 e energy. Mzansi showed up\, and the groove was unforgettable.</span></p><
 p><br></p><p><span style="color: rgb(0\, 0\, 0)\;">Now it’s time to look
  ahead. </span></p><p><span style="color: rgb(0\, 0\, 0)\;">Pre-Register 
 for X Fest 2026 and be the first to access tickets and all the biggest up
 dates before anyone else. We're already cooking up something special\, and
  this is your early pass to the front row.</span></p><p><span style="color
 : rgb(0\, 0\, 0)\;">The next chapter starts now.</span></p><p><span style=
 "color: rgb(0\, 0\, 0)\;">X’se! Lock it in. Stay ready.</span></p><p><br
 ></p>
LOCATION:TBA
SUMMARY:X Fest 2026 | Pre-Registration
URL;VALUE=URI:https://www.howler.co.za/xprereg
END:VEVENT
END:VCALENDAR
