BEGIN:VCALENDAR
VERSION:2.0
PRODID:icalendar-ruby
CALSCALE:GREGORIAN
METHOD:PUBLISH
BEGIN:VEVENT
DTSTAMP:20260425T103715Z
UID:363f29fe-9238-4ba8-b995-5250f381c595
DTSTART:20260430T193000
DTEND:20260501T040000
DESCRIPTION:<p><strong>YUM</strong> presents Overboard </p><p>Featuring: <
 strong>TIMO ODV (JHB)</strong></p><p>From the depths of the ocean\, a wild
  party beast rises… bringing tidal waves of bass and chaos to Kingston
 ’s dance floors 🐙🌊</p><p><strong>Tips for surviving YUM </strong>
 👇🏼</p><p>🦀 The moment you hit the shore\, show some love to your 
 lifeguard — you’ll want them on your side when things get messy 😉</
 p><p>🦀 If you find yourself caught in a heavy vodka current\, lock eyes
  with your crew’s umbrella… that might be the last you see of it as yo
 u drift away 🍹</p><p>🦀 Stay close to your squad — the deeper you g
 o\, the weirder it gets</p><p><strong>CRUISE CAPTAINS 👨🏼‍✈️</s
 trong></p><p>🦀 TIMO ODV LIVE (JHB)</p><p>🦀 ROYAL LOVE</p><p>🦀 KRI
 TIK</p><p>🦀 DANIEL ISRAEL</p><p>🦀 JULIO RICCI</p><p>🦀 OLI D</p><p
 >🦀 ZULU FREQUENCY </p><p>🦀 OAKLEY</p><p>🦀 2ND SIDE</p><p>🦀 RY
 DER</p><p>🦀 STIXX</p><p>🦀 DJ ROURKE</p><p>🦀 ALASKA</p><p>🦀 KAG
 AN</p><p>🦀 SAM HOBBES</p><p>🦀 JVH</p><p><strong>WHAT TO EXPECT:</str
 ong></p><p>HEADLINER</p><p>20+ DJS</p><p>2 DANCE FLOORS</p><p>SPECIAL EFFE
 CTS</p><p>INSANE VISUAL & SOUND EXPERIENCE</p><p>FESTIVAL PRODUCTION INSID
 E & OUTSIDE</p><p>SUPER UV CANNONS</p><p>DECOR & PROPS</p><p>PICTURE BOOTH
 </p><p>R15 DRINKS</p><p>R20 SHOOTERS</p><p>PLEASE NOTE: this is a special 
 event unlike anything you’ve experienced before. We’re sparing no expe
 nse and going big with production. Tickets are sure to sell out. Secure yo
 ur place inside the event of the year before they do!</p>
LOCATION:Ramp 3\, Kings Park Stadium
SUMMARY:YUM presents Overboard Ft TIMO ODV at Kingston Beach Club
URL;VALUE=URI:https://www.howler.co.za/Yum2026
END:VEVENT
END:VCALENDAR
